BEGIN:VCALENDAR
VERSION:2.0
PRODID:-//ТехФото - ECPv5.16.1.1//NONSGML v1.0//EN
CALSCALE:GREGORIAN
METHOD:PUBLISH
X-WR-CALNAME:ТехФото
X-ORIGINAL-URL:https://agtf.ru
X-WR-CALDESC:Мероприятия для ТехФото
BEGIN:VTIMEZONE
TZID:Europe/Moscow
BEGIN:STANDARD
TZOFFSETFROM:+0300
TZOFFSETTO:+0300
TZNAME:MSK
DTSTART:20190101T000000
END:STANDARD
END:VTIMEZONE
BEGIN:VEVENT
DTSTART;TZID=Europe/Moscow:20190907T090000
DTEND;TZID=Europe/Moscow:20190907T180000
DTSTAMP:20260421T112614
CREATED:20190826T140231Z
LAST-MODIFIED:20190826T140231Z
UID:9795-1567846800-1567879200@agtf.ru
SUMMARY:Тёсовский ретро фестиваль
DESCRIPTION:Музей Тёсовской УЖД готовит парад техники\, выставку и организует движение мотодрезин для всех желающих.
URL:https://agtf.ru/event/%d1%82%d1%91%d1%81%d0%be%d0%b2%d1%81%d0%ba%d0%b8%d0%b9-%d1%80%d0%b5%d1%82%d1%80%d0%be-%d1%84%d0%b5%d1%81%d1%82%d0%b8%d0%b2%d0%b0%d0%bb%d1%8c
END:VEVENT
END:VCALENDAR